BEGIN:VCALENDAR
VERSION:2.0
PRODID:-//eventon.com NONSGML v1.0//EN
CALSCALE:GREGORIAN
METHOD:PUBLISH
BEGIN:VEVENT
UID:69e791cacfa6c
DTSTAMP:20260421T150338Z
DTSTART:20261114T170000Z
DTEND:20261114T225900Z
LOCATION:Bettfedernfabrik Kulturstraße 1\,  2522 Oberwaltersdorf
SUMMARY:Mike Supancic
DESCRIPTION:Mike Supancic surft diesmal durch das Traum-Zeit-Kontinuum: In 
 seiner Albtraumhitparade erleben Sie die kostengünstige Do it yourself Chi
 rurgie\,  Elon Musk als Berater für das österreichische Schulsystem und d
 ie dreistesten Städtebeschimpfungen seit Thomas Bernhard. Künstliche Inte
 lligenz und natürliche Blödheit geben sich ein Stelldichein. Hundertfünf
 zig Prozent Zölle auf Pinguine und Vulkansteuern auf[..]\nhttps://bettfede
 rnfabrik.at/veranstaltung/mike-supancic-14112026/
URL:https://bettfedernfabrik.at/veranstaltung/mike-supancic-14112026/
END:VEVENT
END:VCALENDAR