BEGIN:VCALENDAR
VERSION:2.0
PRODID:-//eventon.com NONSGML v1.0//EN
CALSCALE:GREGORIAN
METHOD:PUBLISH
BEGIN:VEVENT
UID:69e73781bfbf1
DTSTAMP:20260421T083825Z
DTSTART:20261118T170000Z
DTEND:20261118T225900Z
LOCATION:Bettfedernfabrik Kulturstraße 1\,  2522 Oberwaltersdorf
SUMMARY:Alex Kristan - Ausverkauft
DESCRIPTION:Mit BORN TO BE CHILD präsentiert Alex Kristan nicht nur ein Ka
 barettprogramm\,  sondern ein Lebensgefühl. Und zwar eines\,  auf das wir 
 im „Erwachsenenmodus“ viel zu oft vergessen\,  weil die Stimme der Vern
 unft so laut ist. Der perfekte Grund für ihn\,  seinem Leitsatz „Vernün
 ftig ist wie tot – nur vorher“ unbeirrt[..]\nhttps://bettfedernfabrik.a
 t/veranstaltung/alex-kristan-18112026/
URL:https://bettfedernfabrik.at/veranstaltung/alex-kristan-18112026/
END:VEVENT
END:VCALENDAR