BEGIN:VCALENDAR
VERSION:2.0
PRODID:-//eventon.com NONSGML v1.0//EN
CALSCALE:GREGORIAN
METHOD:PUBLISH
BEGIN:VEVENT
UID:69e73913bcf66
DTSTAMP:20260421T084507Z
DTSTART:20260304T173000Z
DTEND:20260304T225900Z
LOCATION:Bettfedernfabrik Kulturstraße 1\,  2522 Oberwaltersdorf
SUMMARY:Chrissi Buchmasser
DESCRIPTION:Höchste Eisenbahn! Ein neues Kabarettprogramm muss her. Eine n
 eue Wohnung. Eine neue Stadt? Oder doch aufs Land? Kindergarten\,  Karriere
 \,  Kundenkonto? Oder als Gastfortfahren? Und wenn ja\,  wohin? Chrissi Buc
 hmasser steht unter Zugzwang\,  und mitten in der Rushhour ihres Lebens. Pr
 ioritäten gehören gesetzt\,  Entscheidungen getroffen\,  und die Weichen 
 für die Zukunft[..]\nhttps://bettfedernfabrik.at/veranstaltung/chrissi-buc
 hmasser-04032026/
URL:https://bettfedernfabrik.at/veranstaltung/chrissi-buchmasser-04032026/
END:VEVENT
END:VCALENDAR