BEGIN:VCALENDAR
VERSION:2.0
PRODID:-//eventon.com NONSGML v1.0//EN
CALSCALE:GREGORIAN
METHOD:PUBLISH
BEGIN:VEVENT
UID:69e9dc17c8059
DTSTAMP:20260423T084511Z
DTSTART:20251017T163000Z
DTEND:20251017T215900Z
LOCATION:Bettfedernfabrik Kulturstraße 1\,  2522 Oberwaltersdorf
SUMMARY:R.ock  I.n  P.eace
DESCRIPTION:Die Superstars aus den 60ern bis in die 90er des vorigen Jahrhu
 nderts haben uns ein großes musikalisches Vermächtnis hinterlassen. Radio
 stationen auf der ganzen Welt spielen jeden Tag noch immer die großen Song
 s dieser Generation\,  die jeder kennt und jeder liebt. Es war eine Zeit\, 
  in der Konzerte noch erschwinglich waren[..]\nhttps://bettfedernfabrik.at/
 veranstaltung/r-ock-i-n-p-eace-17102025/
URL:https://bettfedernfabrik.at/veranstaltung/r-ock-i-n-p-eace-17102025/
END:VEVENT
END:VCALENDAR