BEGIN:VCALENDAR
VERSION:2.0
PRODID:-//eventon.com NONSGML v1.0//EN
CALSCALE:GREGORIAN
METHOD:PUBLISH
BEGIN:VEVENT
UID:69e96803d263c
DTSTAMP:20260423T002955Z
DTSTART:20250104T173000Z
DTEND:20250104T225900Z
LOCATION:Bettfedernfabrik Kulturstraße 1\,  2522 Oberwaltersdorf
SUMMARY:Wiener Kabinett Orchester
DESCRIPTION:Das Wiener Kabinett Orchester präsentiert „Das kleinste Neuj
 ahrskonzert der Welt“. Hier widmet sich das musikalische Trio virtuos dem
  typischen Neujahrsprogramm der Wiener Philharmoniker – arrangiert für d
 ie Minimalbesetzung von Akkordeon\,  Violine\,  Kontrabass. Das Wiener Kabi
 nett Orchester\,  bekannt für seine Wiener Musik Interpretationen in der k
 leinsten möglichen Salonorchesterbesetzung spielt die großen[..]\nhttps:/
 /bettfedernfabrik.at/veranstaltung/wiener-kabinett-orchester-04012025/
URL:https://bettfedernfabrik.at/veranstaltung/wiener-kabinett-orchester-04012025/
END:VEVENT
END:VCALENDAR